0.00582400000
0.0
0.00000000
-0.00582400000
-73.845036000
45.0700360
