0.0054630
0.0
0.000
-0.005463000000
-102.700508000000
40.4925080
