0.00531900000
0.0
0.000
-0.005319000000
-117.550598000000
38.3605980
