0.00582000000
0.000
0.0000000
-0.005820
-86.424887000
45.0208870
