0.010198000
0.00000
0.00
-0.01019800000
-152.6000910000
70.134091000
