0.0059600
0.0
0.000000
-0.00596000000
-99.70890000
46.5679000000
